Workbook

Sheet Sheet1
A1: Colorado Springs Utilities Water Supply
C3: Updated: | D3: 46258 | E3: By: | F3: Katharine Anderson
A5: This spreadsheet is created predominantly from the December 2019 Water Rights Yield Assessment Report for Colorado Springs Utilitites, prepared by SGM.
A8: Water Supply (Study Period: 1945 -2008 for many of the local systems, and 1950-2008 for some local systems)
A10: Water System | B10: Water Right | C10: Water Court Case No. or related Structure WDID | D10: Rate Amt (CFS) | E10: Average Yield for 1950-2008 (AF) | F10: Dry Year / 2002 Vol. Yield (AF) | G10: Minimum Vol (AF) | H10: Adj Date | I10: Appr Date | J10: Comments
A11: North Slope | B11: Stubbs and Miller | C11: French Creek Diversion (WDID 1000574), Cascade Creek Diversion (WDID 1000572), Crystal Creek Diversion (WDID 1000573), North Catamount Creek Diversion (WDID 1000575), and South Catamount Creek Diversion (WDID 1000576). | D11: 2.905 | E11: 6800 | F11: 2981 | G11: =MIN(E11:F23) -> 2981 | H11: 1882-02-15 | I11: 1861-12-31
B12: Fountain Ditch | D12: 4 | H12: 1882-02-15 | I12: 1863-02-01
B13: Harmes Ditch (Ute pass) | D13: 0.176 | H13: 1882-02-15 | I13: 1861-03-20
B14: Eder Ditch | D14: 3.28 | H14: 1882-02-15 | I14: 1862-01-01
B15: Whipple Ditch | D15: 0.72 | H15: 1882-02-15 | I15: 1862-03-15
B16: Harmes Enlargement | D16: 1.25 | H16: 1882-02-15 | I16: 1872-12-31
B17: Lincoln Ditch | D17: 0.9 | H17: 1882-02-15 | I17: 1861-09-21
B18: Banning Ditch | D18: 1.125 | H18: 1882-02-15 | I18: 1862-04-01
B19: Lincoln Ditch Enlargement | D19: 0.75 | H19: 1882-02-15 | I19: 1864-12-31
B20: Lincoln Ditch | D20: 2.7 | H20: 1882-02-15 | I20: 1861-09-21
B21: Lincoln Ditch Enlargement | D21: 2.25 | H21: 1882-02-15 | I21: 1864-12-31
B22: Lincoln Ditch | D22: 2.4 | H22: 1882-02-15 | I22: 1861-09-21
B23: Lincoln Ditch Enlargement | D23: 2 | H23: 1882-02-15 | I23: 1864-12-31
A24: Ruxton | B24: Toof Ditch | C24: Ruxton Creek System Exchange WDID 1002805 | D24: 4 | E24: 6610 | F24: 4495 | G24: =MIN(E24:F33) -> 4495 | H24: 1896-03-23 | I24: 1860-02-20 | J24: The yield represents the sum of yield from the direct diversion rights and water diverted under the storage rights
B25: Flanagan Ditch | D25: 0.74 | H25: 1882-02-15 | I25: 1860-04-01
B26: Harmes Ditch | D26: 0.07 | H26: 1882-02-15 | I26: 1861-03-20
B27: Owen and Hall | D27: 2 | H27: 1882-02-15 | I27: 1862-12-31
B28: Harmes Ditch Enlargement | D28: 0.27 | H28: 1882-02-15 | I28: 1872-12-31
B29: Colorado Springs Water Works Ditch | D29: 3.1 | H29: 19763 | I29: 1878-10-01
B30: TF Irrigation Use | D30: 41 | H30: 7093 | I30: 1883-08-23
B31: Ruxton PL WDID 1000581 | D31: 34 | H31: 19763 | I31: 1113
B32: Colo Spgs PL | D32: 3.1 | H32: 1882-02-15 | I32: 1878-10-01
B33: Dark Canyon Ditch | D33: 1.9 | H33: 19763 | I33: 1893-09-28
A34: 33rd Street | B34: Harmes Ditch (El Paso Canal) - alt. point of div. | C34: 33rd Street Intake WDID 1000883; Exchange WDID 1002800 | D34: 1.58 | E34: 4877 | F34: 2181 | G34: =MIN(E34:F39) -> 2181 | H34: 1882-02-15 | I34: 1861-03-20 | J34: The diversions at alt. points shall not exceed a total of 13.93 cfs, and cannot be made at the alt. point and original point simultaneously.
B35: Bley Ditch (El Paso Canal) - alt. point of div. | D35: 22.4 | H35: 1882-02-15 | I35: 1861-03-21
B36: Sheldon Ditch (El Paso Canal) - alt. point of div. | D36: 8.37 | H36: 1882-02-15 | I36: 1863-12-31
B37: Anthony Bott and Chambers | D37: 8.82 | H37: 1882-02-15 | I37: 1864-03-21
B38: El Paso Canal Pipeline | D38: 59.5 | H38: 1882-02-15 | I38: 1871-09-21
B39: AnthonyBott and Chambers (Enlargement) (El Paso Canal) - alt. point of div. | D39: 3.54 | H39: 1882-02-15 | I39: 1881-04-30
A40: Bear Creek | B40: Ditch Number 1 | C40: 15CW3008; Bear Creek Exchange WDID 1002801 | D40: 5.34 | E40: 1564 | F40: 801 | G40: =MIN(E40:F46) -> 801 | H40: 1882-02-15 | I40: 1861-12-31
B41: Ditch Number 1 | D41: 2.66 | H41: 1882-02-15 | I41: 1861-12-31
B42: Matthews Ditch | D42: 5 | H42: 1882-02-15 | I42: 1863-03-21
B43: Wellesley and Howbert Ditch | D43: 6 | H43: 1882-02-15 | I43: 1866-09-21
B44: Wellesley and Fisher Ditch | D44: 8 | H44: 1882-02-15 | I44: 1875-03-21
B45: Bear Creek Pipeline WDID 1000535 | D45: 9.4 | H45: 19763 | I45: 1889-04-15
D46: 4.2 | H46: 19763 | I46: 2631
A47: Pikeview | B47: Banning Ditch (Monument Creek Pipeline) | C47: 11CW83 abandoned some water from Pikeview Res. no. 2; Pikeview system exchange WDID 1002804 | D47: 4 | E47: 11374 | F47: 8961 | G47: =MIN(E47:F50) -> 8961 | H47: 1882-02-15 | I47: 1862-04-01
B48: Welty Ditch | D48: 1 | H48: 1882-02-15 | I48: 1867-06-01
B49: Monument Ditch no. 2½ | D49: 16.43 | H49: 1882-02-15 | I49: 1871-06-01
B50: Monument Creek Pipeline (WDID1000506) | D50: 8.63 | H50: 7093 | I50: 30744
A51: Northfield | B51: Harmes Ditch | C51: Northfield System Exchange WDID 1002803 | D51: 0.3533 | E51: 562 | F51: 305 | G51: =MIN(E51:F60) -> 305 | H51: 1882-02-15 | I51: 1861-03-20
B52: Stubbs and Miller Ditch | D52: 1 | H52: 1882-02-15 | I52: 1861-12-31
B53: W W Jones Ditch No 1 | D53: 6.36 | H53: 1882-02-15 | I53: 1869-03-21
B54: Blogett Ditch | D54: 4.2 | H54: 1882-02-15 | I54: 1872-05-01
B55: Harmes Ditch Enlargement | D55: 2.493 | H55: 1882-02-15 | I55: 1872-12-31
B56: Lennox Ditch | D56: 7.95 | H56: 1882-02-15 | I56: 1873-09-21
B57: Head of Creek Irrigating Ditch | D57: 2.01 | H57: 1882-02-15 | I57: 1876-12-31
B58: Clarks Ditch No 1 | D58: 1.66 | H58: 1882-02-15 | I58: 1876-12-31
B59: Polar Star Ditch | D59: 13.7 | H59: 7093 | I59: 1882-01-03
B60: Austin Bluffs Pipeline (Pine Valley Diversion, WDID 1000659) | D60: 5.2 | H60: 19763 | I60: 1889-10-16
A61: South Suburban | B61: Cheyenne Ditch | C61: South Cheyenne Pipeline WDID 1000537; South Suburban System Exchange WDID 1002806 | D61: 1.9 | E61: 4744 | F61: 1643 | G61: =MIN(E61:F79) -> 1643 | H61: 1882-02-15 | I61: 1860-09-01 | J61: USGS maintains a gage (USGS 07105490) downstream of Utilities’ infrastructure on Cheyenne Creek.
B62: Lowry Ditch | D62: 4.59 | H62: 1882-02-15 | I62: 1861-09-21
B63: Cheyenne Ditch Enlargement | D63: 1.25 | H63: 1882-02-15 | I63: 1862-12-31
B64: Harris Ditch | D64: 9.55 | H64: 1882-02-15 | I64: 1863-03-01
B65: Wolf Ditch | D65: 6.52 | H65: 1882-02-15 | I65: 1863-03-21
B66: Alvord Ditch | D66: 1.14 | H66: 1882-02-15 | I66: 1863-05-10
B67: Lowry Ditch Enlargement | D67: 4.59 | H67: 1882-02-15 | I67: 1863-12-31
B68: Harlan Lowry Ditch | D68: 0.9 | H68: 1882-02-15 | I68: 1872-06-21
B69: North Cheyenne PL | D69: 0.9 | H69: 1883-04-12 | I69: 1890-03-01
B70: Mesa Pipeline | D70: 17.3 | H70: 19763 | I70: 10334
B71: Cheyenne Ditch | D71: 1.25 | H71: 1882-02-15 | I71: 1860-09-01
B72: Lowry Ditch | D72: 3 | H72: 1882-02-15 | I72: 1861-09-21
B73: Cheyenne Ditch Enlargement | D73: 0.85 | H73: 1882-02-15 | I73: 1862-12-31
B74: Harris Ditch | D74: 6.35 | H74: 1882-02-15 | I74: 1863-03-01
B75: Wolf Ditch | D75: 6 | H75: 1882-02-15 | I75: 1863-03-21
B76: Lowry Ditch Enlargement | D76: 3 | H76: 1882-02-15 | I76: 1863-12-31
B77: John Wolf Ditch | D77: 2 | H77: 1882-02-15 | I77: 1864-12-31
B78: Dixon Ditch | D78: 1.55 | H78: 1882-02-15 | I78: 1865-09-21
B79: Harlan Lowry Ditch | D79: 0.6 | H79: 1882-02-15 | I79: 1872-06-21
A80: South Slope | B80: Conley | C80: Delivered via St. John's Tunnel WDID 1004613 | D80: 1.8 | E80: 4892 | F80: 2886 | G80: =MIN(E80:F87) -> 2886 | H80: 6614 | I80: 1861-03-30 | J80: Yield represents the sum of yield from the storage rights as well as water diverted under the direct diversion rights in the system.
B81: Glendale | D81: 0.638 | H81: 1894-02-03 | I81: 1861-04-15
B82: Baltiff | D82: 1.6 | H82: 6614 | I82: 1864-03-31
B83: McClure | D83: 0.355 | H83: 6614 | I83: 1872-01-02
B84: Thomas Patton #2 | D84: 0.16 | H84: 6614 | I84: 1871-04-15
B85: Thomas Patton #2 | D85: 0.1 | H85: 6614 | I85: 1872-04-15
B86: Thomas Patton #2 | D86: 0.74 | H86: 6614 | I86: 1874-05-01
B87: Hight | D87: 1 | H87: 6614 | I87: 1877-04-16
A88: Rosemont | B88: Toof Ditch | C88: Rosemont Pipeline WDID 1200538; Broadmoor Pipeline WDID 1004612. Case no. CA13801 | D88: 1 | E88: 1790 | F88: 707 | G88: =MIN(E88:F99) -> 707 | H88: 9433 | I88: 1865-03-31
B89: Johnson and Merit | D89: 0.36 | H89: 11720 | I89: 1865-04-15
B90: Toof Ext. Ditch | D90: 0.4 | H90: 9433 | I90: 1871-10-01
B91: Toof Ext. Ditch | D91: 0.6 | H91: 9433 | I91: 1871-10-01
B92: McClure Ditch | D92: 0.31 | H92: 11720 | I92: 1872-01-02
B93: Johnson and Merit | D93: 0.12 | H93: 1894-02-03 | I93: 1873-01-31
B94: Morey Ext. #1 Ditch | D94: 0.6 | H94: 2929 | I94: 1873-04-01
B95: Darlington Ditch | D95: 0.8 | H95: 2912 | I95: 1873-11-01
B96: Kelley Ditch 1st ext. | D96: 9.5 | H96: 1894-02-03 | I96: 1886-04-15
B97: Kelley Ditch 2nd ext. | D97: 6.5 | H97: 682 | I97: 1897-12-10
B98: Morey Ext. #2 Ditch | D98: 0.8 | H98: 2929 | I98: 2193
B99: Gould Creek Diversion WDID 1200578 | D99: 10 | H99: 19796 | I99: 18445
A100: Southslope/Rosemont | B100: Glendale Ditch | D100: 0.147 | H100: 1894-02-03 | I100: 1861-04-15 | J100: Not in the 2019 Yield Estimate Report for some reason. Some of these look like they may be duplicates of the South Slope and Rosemont Water Systems, but others do not look to be repeated.
B101: Peggy Ditch | D101: 0.014 | H101: 1894-02-03 | I101: 1861-05-20
B102: Johnson Ditch | D102: 0.125 | H102: 1894-02-03 | I102: 1864-05-20
B103: Glendale Ditch | D103: 0.36 | H103: 1894-02-03 | I103: 1865-05-01
B104: Morey Ditch | D104: 1.9 | H104: 1894-02-03 | I104: 1865-05-24
B105: Thomas Patton Ditch No 1 | D105: 0.1085 | H105: 1894-02-03 | I105: 1871-04-15
...

Sheet Sheet2
A3: CSU System Parameter | B3: Amount (AF)
A4: Dry-Year Water Right Yield | B4: =Sheet1!F181 -> 51981.13
A5: Minimum System Storage Level (1990-2025) | B5: =Sheet1!C1082 -> 102423.99
A6: Annual Demand | B6: =Sheet1!B1145 -> 88000
A7: Available Supply | B7: =B4+B5-B6 -> 66405.123
A8: Proposed Lot Demand | B8: 0.7
A9: Remaining Supply | B9: =B7-B8 -> 66404.423

Sheet Storage
A1: Summary by Month
D2: Indicates a different capacity value than the previous month
B3: =CONCATENATE($A4,B4) -> 1970Jan | C3: =CONCATENATE($A4,C4) -> 1970Feb | D3: =CONCATENATE($A4,D4) -> 1970Mar | E3: =CONCATENATE($A4,E4) -> 1970Apr | F3: =CONCATENATE($A4,F4) -> 1970May | G3: =CONCATENATE($A4,G4) -> 1970Jun | H3: =CONCATENATE($A4,H4) -> 1970Jul | I3: =CONCATENATE($A4,I4) -> 1970Aug | ... P3: =CONCATENATE($A4,P4) -> 1970Max
A4: 1970 | B4: Jan | C4: Feb | D4: Mar | E4: Apr | F4: May | G4: Jun | H4: Jul | I4: Aug | J4: Sep | K4: Oct | L4: Nov | M4: Dec | N4: (YE)& Min Sto | O4: Avg | P4: Max
A5: Total Capacity (Gal) | B5: 30461904000 | C5: 30461904000 | D5: 30461904000 | E5: 31143296000 | F5: 31143296000 | G5: 31143296000 | H5: 31143296000 | I5: 31143296000 | J5: 31143296000 | K5: 31143296000 | L5: 31143296000 | M5: 31143296000 | N5: 31143296000
A6: Total in Storage (Gal) | B6: 14923579000 | C6: 14595412000 | D6: 13939679000 | E6: 13409679000 | F6: 15301679000 | G6: 20167117000 | H6: 20139645000 | I6: 19841194000 | J6: 19417788000 | K6: 18790679000 | L6: 18288779000 | M6: 17762279000 | N6: 13409679000 | O6: 17214792417 | P6: 20167117000
A7: Total Demand (Gal) | B7: 701118000 | C7: 720833000 | D7: 831913000 | E7: 933678000 | F7: 1668300000 | G7: 1744555000 | H7: 1698591000 | I7: 1690290000 | J7: 1369980000 | K7: 873120000 | L7: 724033000 | M7: 741609000 | N7: 13698020000 | P7: 1744555000
B8: =CONCATENATE($A9,B9) -> 1971Jan | C8: =CONCATENATE($A9,C9) -> 1971Feb | D8: =CONCATENATE($A9,D9) -> 1971Mar | E8: =CONCATENATE($A9,E9) -> 1971Apr | F8: =CONCATENATE($A9,F9) -> 1971May | G8: =CONCATENATE($A9,G9) -> 1971Jun | H8: =CONCATENATE($A9,H9) -> 1971Jul | I8: =CONCATENATE($A9,I9) -> 1971Aug | ... P8: =CONCATENATE($A9,P9) -> 1971Max
A9: 1971 | B9: Jan | C9: Feb | D9: Mar | E9: Apr | F9: May | G9: Jun | H9: Jul | I9: Aug | J9: Sep | K9: Oct | L9: Nov | M9: Dec | N9: (YE)& Min Sto | O9: Avg | P9: Max
A10: Total Capacity (Gal) | B10: 31143296000 | C10: 31143300000 | D10: 31143300000 | E10: 31144699000 | F10: 31144699000 | G10: 31144699000 | H10: 31144699000 | I10: 31144699000 | J10: 31144699000 | K10: 31144699000 | L10: 31144699000 | M10: 31144699000 | N10: 31144699000
A11: Total in Storage (Gal) | B11: 17118482000 | C11: 16435279000 | D11: 15534464000 | E11: 15126528000 | F11: 16386852000 | G11: 18984933000 | H11: 20558922000 | I11: 19920755000 | J11: 19462603000 | K11: 19401789000 | L11: 19477351000 | M11: 19147712000 | N11: 15126528000 | O11: 18129639167 | P11: 20558922000
A12: Total Demand (Gal) | B12: 775457000 | C12: 696989000 | D12: 844992000 | E12: 1033203000 | F12: 1246204000 | G12: 2122447000 | H12: 1460866000 | I12: 1749480000 | J12: 1316472000 | K12: 1063282000 | L12: 796210000 | M12: 793122000 | N12: 13898724000 | P12: 2122447000
B13: =CONCATENATE($A14,B14) -> 1972Jan | C13: =CONCATENATE($A14,C14) -> 1972Feb | D13: =CONCATENATE($A14,D14) -> 1972Mar | E13: =CONCATENATE($A14,E14) -> 1972Apr | F13: =CONCATENATE($A14,F14) -> 1972May | G13: =CONCATENATE($A14,G14) -> 1972Jun | H13: =CONCATENATE($A14,H14) -> 1972Jul | I13: =CONCATENATE($A14,I14) -> 1972Aug | ... P13: =CONCATENATE($A14,P14) -> 1972Max
A14: 1972 | B14: Jan | C14: Feb | D14: Mar | E14: Apr | F14: May | G14: Jun | H14: Jul | I14: Aug | J14: Sep | K14: Oct | L14: Nov | M14: Dec | N14: (YE)& Min Sto | O14: Avg | P14: Max
A15: Total Capacity (Gal) | B15: 31144699000 | C15: 31144699000 | D15: 31144699000 | E15: 31144699000 | F15: 31144699000 | G15: 31144699000 | H15: 31144699000 | I15: 31144699000 | J15: 31144699000 | K15: 31144699000 | L15: 31144699000 | M15: 39942082000 | N15: 39942082000
A16: Total in Storage (Gal) | B16: 18658138000 | C16: 18644357000 | D16: 18015090000 | E16: 17334045000 | F16: 17292980000 | G16: 19906683000 | H16: 20537116000 | I16: 21389403000 | J16: 21973140000 | K16: 22249860000 | L16: 21672898000 | M16: 21026676000 | N16: 17292980000 | O16: 19891698833 | P16: 22249860000
A17: Total Demand (Gal) | B17: 774575000 | C17: 798827000 | D17: 1181325000 | E17: 1249508000 | F17: 1372093000 | G17: 1492677000 | H17: 1754099000 | I17: 1683969000 | J17: 1231119000 | K17: 1129854000 | L17: 798303000 | M17: 798036000 | N17: 14264385000 | P17: 1754099000
B18: =CONCATENATE($A19,B19) -> 1973Jan | C18: =CONCATENATE($A19,C19) -> 1973Feb | D18: =CONCATENATE($A19,D19) -> 1973Mar | E18: =CONCATENATE($A19,E19) -> 1973Apr | F18: =CONCATENATE($A19,F19) -> 1973May | G18: =CONCATENATE($A19,G19) -> 1973Jun | H18: =CONCATENATE($A19,H19) -> 1973Jul | I18: =CONCATENATE($A19,I19) -> 1973Aug | ... P18: =CONCATENATE($A19,P19) -> 1973Max
A19: 1973 | B19: Jan | C19: Feb | D19: Mar | E19: Apr | F19: May | G19: Jun | H19: Jul | I19: Aug | J19: Sep | K19: Oct | L19: Nov | M19: Dec | N19: (YE)& Min Sto | O19: Avg | P19: Max
A20: Total Capacity (Gal) | B20: 39942082000 | C20: 39942082000 | D20: 39942082000 | E20: 39942082000 | F20: 40768890000 | G20: 40768890000 | H20: 40768890000 | I20: 40768890000 | J20: 40768890000 | K20: 40768890000 | L20: 40768890000 | M20: 40768890000 | N20: 40768890000
A21: Total in Storage (Gal) | B21: 20491428000 | C21: 19646010000 | D21: 19060054000 | E21: 18922309000 | F21: 21592041000 | G21: 24664317000 | H21: 26203941000 | I21: 25843438000 | J21: 24946246000 | K21: 23809555000 | L21: 22989663000 | M21: 22145493000 | N21: 18922309000 | O21: 22526207917 | P21: 26203941000
A22: Total Demand (Gal) | B22: 798829000 | C22: 722482000 | D22: 818968000 | E22: 988841000 | F22: 1416020000 | G22: 2248790000 | H22: 1909689000 | I22: 1971724000 | J22: 1393415000 | K22: 1210136000 | L22: 928870000 | M22: 856527000 | N22: 15264291000 | P22: 2248790000
B23: =CONCATENATE($A24,B24) -> 1974Jan | C23: =CONCATENATE($A24,C24) -> 1974Feb | D23: =CONCATENATE($A24,D24) -> 1974Mar | E23: =CONCATENATE($A24,E24) -> 1974Apr | F23: =CONCATENATE($A24,F24) -> 1974May | G23: =CONCATENATE($A24,G24) -> 1974Jun | H23: =CONCATENATE($A24,H24) -> 1974Jul | I23: =CONCATENATE($A24,I24) -> 1974Aug | ... P23: =CONCATENATE($A24,P24) -> 1974Max
A24: 1974 | B24: Jan | C24: Feb | D24: Mar | E24: Apr | F24: May | G24: Jun | H24: Jul | I24: Aug | J24: Sep | K24: Oct | L24: Nov | M24: Dec | N24: (YE)& Min Sto | O24: Avg | P24: Max
A25: Total Capacity (Gal) | B25: 40768890000 | C25: 40768890000 | D25: 40768890000 | E25: 40768890000 | F25: 40768890000 | G25: 40768890000 | H25: 40768890000 | I25: 40768890000 | J25: 40768890000 | K25: 40768890000 | L25: 40768890000 | M25: 40768890000 | N25: 40768890000
A26: Total in Storage (Gal) | B26: 21573444000 | C26: 21012383000 | D26: 20273153000 | E26: 19370600000 | F26: 20314933000 | G26: 24100586000 | H26: 23502015000 | I26: 22026417000 | J26: 20495373000 | K26: 19656860000 | L26: 19101246000 | M26: 18391666000 | N26: 18391666000 | O26: 20818223000 | P26: 24100586000
A27: Total Demand (Gal) | B27: 836053000 | C27: 743575000 | D27: 908079000 | E27: 1169946000 | F27: 1884001000 | G27: 2107141000 | H27: 2234454000 | I27: 2158942000 | J27: 1573473000 | K27: 1163615000 | L27: 821932000 | M27: 779123000 | N27: 16380334000 | P27: 2234454000
B28: =CONCATENATE($A29,B29) -> 1975Jan | C28: =CONCATENATE($A29,C29) -> 1975Feb | D28: =CONCATENATE($A29,D29) -> 1975Mar | E28: =CONCATENATE($A29,E29) -> 1975Apr | F28: =CONCATENATE($A29,F29) -> 1975May | G28: =CONCATENATE($A29,G29) -> 1975Jun | H28: =CONCATENATE($A29,H29) -> 1975Jul | I28: =CONCATENATE($A29,I29) -> 1975Aug | ... P28: =CONCATENATE($A29,P29) -> 1975Max
A29: 1975 | B29: Jan | C29: Feb | D29: Mar | E29: Apr | F29: May | G29: Jun | H29: Jul | I29: Aug | J29: Sep | K29: Oct | L29: Nov | M29: Dec | N29: (YE)& Min Sto | O29: Avg | P29: Max
A30: Total Capacity (Gal) | B30: 40768890000 | C30: 40768890000 | D30: 40768890000 | E30: 40768890000 | F30: 38814242000 | G30: 38814242000 | H30: 38814242000 | I30: 38814242000 | J30: 38814242000 | K30: 38814242000 | L30: 38814242000 | M30: 38814242000 | N30: 38814242000
A31: Total in Storage (Gal) | B31: 17552640000 | C31: 16989133000 | D31: 16407017000 | E31: 15527079000 | F31: 15743975000 | G31: 21129041000 | H31: 23141522000 | I31: 22348457000 | J31: 20563027000 | K31: 18991118000 | L31: 18322799000 | M31: 17755824000 | N31: 15527079000 | O31: 18705969333 | P31: 23141522000
A32: Total Demand (Gal) | B32: 824767000 | C32: 725263000 | D32: 891576000 | E32: 1185048000 | F32: 1834545000 | G32: 2020953000 | H32: 2378619000 | I32: 2234548000 | J32: 1781405000 | K32: 1400378000 | L32: 844110000 | M32: 825683000 | N32: 16946895000 | P32: 2378619000
B33: =CONCATENATE($A34,B34) -> 1976Jan | C33: =CONCATENATE($A34,C34) -> 1976Feb | D33: =CONCATENATE($A34,D34) -> 1976Mar | E33: =CONCATENATE($A34,E34) -> 1976Apr | F33: =CONCATENATE($A34,F34) -> 1976May | G33: =CONCATENATE($A34,G34) -> 1976Jun | H33: =CONCATENATE($A34,H34) -> 1976Jul | I33: =CONCATENATE($A34,I34) -> 1976Aug | ... P33: =CONCATENATE($A34,P34) -> 1976Max
A34: 1976 | B34: Jan | C34: Feb | D34: Mar | E34: Apr | F34: May | G34: Jun | H34: Jul | I34: Aug | J34: Sep | K34: Oct | L34: Nov | M34: Dec | N34: (YE)& Min Sto | O34: Avg | P34: Max
A35: Total Capacity (Gal) | B35: 39010098000 | C35: 39010098000 | D35: 39010098000 | E35: 39010098000 | F35: 39010098000 | G35: 39010098000 | H35: 39010098000 | I35: 39010098000 | J35: 39010098000 | K35: 39010098000 | L35: 39010098000 | M35: 39010098000 | N35: 39010098000
A36: Total in Storage (Gal) | B36: 17223850000 | C36: 16642472000 | D36: 15844227000 | E36: 15384910000 | F36: 18060882000 | G36: 19766778000 | H36: 19556991000 | I36: 18832919000 | J36: 17770802000 | K36: 17175395000 | L36: 16482205000 | M36: 15914095000 | N36: 15384910000 | O36: 17387960500 | P36: 19766778000
A37: Total Demand (Gal) | B37: 830145000 | C37: 881171000 | D37: 918595000 | E37: 1379444000 | F37: 1675716000 | G37: 2096475000 | H37: 2360135000 | I37: 2026401000 | J37: 1582348000 | K37: 1053405000 | L37: 914907000 | M37: 851106000 | N37: 16569848000 | P37: 2360135000
B38: =CONCATENATE($A39,B39) -> 1977Jan | C38: =CONCATENATE($A39,C39) -> 1977Feb | D38: =CONCATENATE($A39,D39) -> 1977Mar | E38: =CONCATENATE($A39,E39) -> 1977Apr | F38: =CONCATENATE($A39,F39) -> 1977May | G38: =CONCATENATE($A39,G39) -> 1977Jun | H38: =CONCATENATE($A39,H39) -> 1977Jul | I38: =CONCATENATE($A39,I39) -> 1977Aug | ... P38: =CONCATENATE($A39,P39) -> 1977Max
A39: 1977 | B39: Jan | C39: Feb | D39: Mar | E39: Apr | F39: May | G39: Jun | H39: Jul | I39: Aug | J39: Sep | K39: Oct | L39: Nov | M39: Dec | N39: (YE)& Min Sto | O39: Avg | P39: Max
A40: Total Capacity (Gal) | B40: 44034138000 | C40: 44034138000 | D40: 44034138000 | E40: 44034138000 | F40: 44034138000 | G40: 44034138000 | H40: 44034138000 | I40: 44034138000 | J40: 44034138000 | K40: 44034138000 | L40: 44034138000 | M40: 44034138000 | N40: 44034138000
A41: Total in Storage (Gal) | B41: 15592878000 | C41: 15206256000 | D41: 14477762000 | E41: 13880874000 | F41: 14545610000 | G41: 17005850000 | H41: 15267028000 | I41: 14828217000 | J41: 13135948000 | K41: 12070528000 | L41: 11502666000 | M41: 10858444000 | N41: 10858444000 | O41: 14031005083 | P41: 17005850000
A42: Total Demand (Gal) | B42: 846543000 | C42: 843631000 | D42: 915045000 | E42: 1165758000 | F42: 1928280000 | G42: 2123772000 | H42: 2200516000 | I42: 1662234000 | J42: 1956934000 | K42: 1359322000 | L42: 912939000 | M42: 915697000 | N42: 16830671000 | P42: 2200516000
B43: =CONCATENATE($A44,B44) -> 1978Jan | C43: =CONCATENATE($A44,C44) -> 1978Feb | D43: =CONCATENATE($A44,D44) -> 1978Mar | E43: =CONCATENATE($A44,E44) -> 1978Apr | F43: =CONCATENATE($A44,F44) -> 1978May | G43: =CONCATENATE($A44,G44) -> 1978Jun | H43: =CONCATENATE($A44,H44) -> 1978Jul | I43: =CONCATENATE($A44,I44) -> 1978Aug | ... P43: =CONCATENATE($A44,P44) -> 1978Max
A44: 1978 | B44: Jan | C44: Feb | D44: Mar | E44: Apr | F44: May | G44: Jun | H44: Jul | I44: Aug | J44: Sep | K44: Oct | L44: Nov | M44: Dec | N44: (YE)& Min Sto | O44: Avg | P44: Max
A45: Total Capacity (MG) | B45: 44034 | C45: 44034 | D45: 44034 | E45: 44034 | F45: 44034 | G45: 44034 | H45: 44034 | I45: 44034 | J45: 44034 | K45: 44034 | L45: 44034 | M45: 44034 | N45: 44034
A46: Total in Storage (MG) | B46: 10162 | C46: 9539 | D46: 8652 | E46: 7680 | F46: 9826 | G46: 17991 | H46: 20584 | I46: 19440 | J46: 17610 | K46: 16299 | L46: 15559 | M46: 14779 | N46: 7680 | O46: 14010 | P46: 20584
A47: Total Demand (Gal) | B47: 915025000 | C47: 809390000 | D47: 1112952000 | E47: 1647795000 | F47: 1510465000 | G47: 2325179000 | H47: 2450576000 | I47: 2134292000 | J47: 1993538000 | K47: 1463028000 | L47: 1022381000 | M47: 951152000 | N47: 18335773000 | P47: 2450576000
B48: =CONCATENATE($A49,B49) -> 1979Jan | C48: =CONCATENATE($A49,C49) -> 1979Feb | D48: =CONCATENATE($A49,D49) -> 1979Mar | E48: =CONCATENATE($A49,E49) -> 1979Apr | F48: =CONCATENATE($A49,F49) -> 1979May | G48: =CONCATENATE($A49,G49) -> 1979Jun | H48: =CONCATENATE($A49,H49) -> 1979Jul | I48: =CONCATENATE($A49,I49) -> 1979Aug | ... P48: =CONCATENATE($A49,P49) -> 1979Max
A49: 1979 | B49: Jan | C49: Feb | D49: Mar | E49: Apr | F49: May | G49: Jun | H49: Jul | I49: Aug | J49: Sep | K49: Oct | L49: Nov | M49: Dec | N49: (YE)& Min Sto | O49: Avg | P49: Max
A50: Total Capacity (MG) | B50: 44623 | C50: 44623 | D50: 44623 | E50: 44623 | F50: 44623 | G50: 44623 | H50: 44623 | I50: 44623 | J50: 44623 | K50: 44623 | L50: 44623 | M50: 44623 | N50: 44623
A51: Total in Storage (MG) | B51: 14041 | C51: 13330 | D51: 12646 | E51: 13048 | F51: 14859 | G51: 25069 | H51: 27527 | I51: 26098 | J51: 24426 | K51: 23220 | L51: 22336 | M51: 21715 | N51: 12646 | O51: 19860 | P51: 27527
A52: Total Demand (Gal) | B52: 947700000 | C52: 849265000 | D52: 901550000 | E52: 1266349000 | F52: 1454839000 | G52: 2050036000 | H52: 2241532000 | I52: 2058434000 | J52: 2102934000 | K52: 1502125000 | L52: 1030509000 | M52: 996330000 | N52: 17401603000 | P52: 2241532000
B53: =CONCATENATE($A54,B54) -> 1980Jan | C53: =CONCATENATE($A54,C54) -> 1980Feb | D53: =CONCATENATE($A54,D54) -> 1980Mar | E53: =CONCATENATE($A54,E54) -> 1980Apr | F53: =CONCATENATE($A54,F54) -> 1980May | G53: =CONCATENATE($A54,G54) -> 1980Jun | H53: =CONCATENATE($A54,H54) -> 1980Jul | I53: =CONCATENATE($A54,I54) -> 1980Aug | ... P53: =CONCATENATE($A54,P54) -> 1980Max
A54: 1980 | B54: Jan | C54: Feb | D54: Mar | E54: Apr | F54: May | G54: Jun | H54: Jul | I54: Aug | J54: Sep | K54: Oct | L54: Nov | M54: Dec | N54: (YE)& Min Sto | O54: Avg | P54: Max
A55: Total Capacity (MG) | B55: 44623 | C55: 44623 | D55: 44623 | E55: 44623 | F55: 44623 | G55: 44623 | H55: 44623 | I55: 44623 | J55: 44623 | K55: 44623 | L55: 44623 | M55: 44623 | N55: 44623
A56: Total in Storage (MG) | B56: 20987 | C56: 20852 | D56: 20169 | E56: 21048 | F56: 17984 | G56: 29694 | H56: 34258 | I56: 31767 | J56: 30558 | K56: 29093 | L56: 28336 | M56: 27502 | N56: 17984 | O56: 26021 | P56: 34258
A57: Total Demand (Gal) | B57: 997405000 | C57: 927140000 | D57: 914368000 | E57: 1152291000 | F57: 1310437000 | G57: 2734749000 | H57: 2738647000 | I57: 2165235000 | J57: 1961612000 | K57: 1457645000 | L57: 983286000 | M57: 950657000 | N57: 18293472000 | P57: 2738647000
B58: =CONCATENATE($A59,B59) -> 1981Jan | C58: =CONCATENATE($A59,C59) -> 1981Feb | D58: =CONCATENATE($A59,D59) -> 1981Mar | E58: =CONCATENATE($A59,E59) -> 1981Apr | F58: =CONCATENATE($A59,F59) -> 1981May | G58: =CONCATENATE($A59,G59) -> 1981Jun | H58: =CONCATENATE($A59,H59) -> 1981Jul | I58: =CONCATENATE($A59,I59) -> 1981Aug | ... P58: =CONCATENATE($A59,P59) -> 1981Max
A59: 1981 | B59: Jan | C59: Feb | D59: Mar | E59: Apr | F59: May | G59: Jun | H59: Jul | I59: Aug | J59: Sep | K59: Oct | L59: Nov | M59: Dec | N59: (YE)& Min Sto | O59: Avg | P59: Max
A60: Total Capacity (MG) | B60: 44623 | C60: 44623 | D60: 44623 | E60: 44623 | F60: 44623 | G60: 44623 | H60: 44623 | I60: 44623 | J60: 44623 | K60: 44623 | L60: 44623 | M60: 44623 | N60: 44623
A61: Total in Storage (MG) | B61: 27050 | C61: 26266 | D61: 25857 | E61: 24825 | F61: 25879 | G61: 29720 | H61: 31040 | I61: 30544 | J61: 29832 | K61: 28936 | L61: 27993 | M61: 27929 | N61: 24825 | O61: 27989 | P61: 31040
A62: Total Demand (Gal) | B62: 976027000 | C62: 892828000 | D62: 935332000 | E62: 1810155000 | F62: 1562293000 | G62: 2364449000 | H62: 2185410000 | I62: 1615038000 | J62: 1685605000 | K62: 1403086000 | L62: 1064431000 | M62: 986778000 | N62: 17481432000 | P62: 2364449000
B63: =CONCATENATE($A64,B64) -> 1982Jan | C63: =CONCATENATE($A64,C64) -> 1982Feb | D63: =CONCATENATE($A64,D64) -> 1982Mar | E63: =CONCATENATE($A64,E64) -> 1982Apr | F63: =CONCATENATE($A64,F64) -> 1982May | G63: =CONCATENATE($A64,G64) -> 1982Jun | H63: =CONCATENATE($A64,H64) -> 1982Jul | I63: =CONCATENATE($A64,I64) -> 1982Aug | ... P63: =CONCATENATE($A64,P64) -> 1982Max
A64: 1982 | B64: Jan | C64: Feb | D64: Mar | E64: Apr | F64: May | G64: Jun | H64: Jul | I64: Aug | J64: Sep | K64: Oct | L64: Nov | M64: Dec | N64: (YE)& Min Sto | O64: Avg | P64: Max
A65: Total Capacity (MG) | B65: 44623 | C65: 44623 | D65: 45298 | E65: 45298 | F65: 46601 | G65: 46601 | H65: 64751 | I65: 64751 | J65: 64751 | K65: 64751 | L65: 64751 | M65: 64751 | N65: 64751
A66: Total in Storage (MG) | B66: 27382 | C66: 26841 | D66: 26391 | E66: 24641 | F66: 25525 | G66: 35180 | H66: 44502 | I66: 45473 | J66: 44959 | K66: 43865 | L66: 43764 | M66: 43132 | N66: 24641 | O66: 35971 | P66: 45473
A67: Total Demand (Gal) | B67: 952357000 | C67: 939112000 | D67: 1054493000 | E67: 1567473000 | F67: 1584358000 | G67: 1616516000 | H67: 2838847000 | I67: 1688802000 | J67: 1525365000 | K67: 1251220000 | L67: 977641000 | M67: 940144000 | N67: 16936328000 | P67: 2838847000
B68: =CONCATENATE($A69,B69) -> 1983Jan | C68: =CONCATENATE($A69,C69) -> 1983Feb | D68: =CONCATENATE($A69,D69) -> 1983Mar | E68: =CONCATENATE($A69,E69) -> 1983Apr | F68: =CONCATENATE($A69,F69) -> 1983May | G68: =CONCATENATE($A69,G69) -> 1983Jun | H68: =CONCATENATE($A69,H69) -> 1983Jul | I68: =CONCATENATE($A69,I69) -> 1983Aug | ... P68: =CONCATENATE($A69,P69) -> 1983Max
A69: 1983 | B69: Jan | C69: Feb | D69: Mar | E69: Apr | F69: May | G69: Jun | H69: Jul | I69: Aug | J69: Sep | K69: Oct | L69: Nov | M69: Dec | N69: (YE)& Min Sto | O69: Avg | P69: Max
A70: Total Capacity (MG) | B70: 64751 | C70: 64751 | D70: 64751 | E70: 64751 | F70: 64751 | G70: 64751 | H70: 64751 | I70: 64751 | J70: 64751 | K70: 64751 | L70: 64751 | M70: 64751 | N70: 64751
A71: Total in Storage (MG) | B71: 42369 | C71: 41666 | D71: 40968 | E71: 40419 | F71: 42189 | G71: 51017 | H71: 51172 | I71: 50760 | J71: 49456 | K71: 51878 | L71: 51606 | M71: 49681 | N71: 40419 | O71: 46932 | P71: 51878
A72: Total Demand (Gal) | B72: 1014858000 | C72: 928510000 | D72: 1021633000 | E72: 1197816000 | F72: 1653653000 | G72: 1971146000 | H72: 2938920000 | I72: 2266318000 | J72: 2342792000 | K72: 1652075000 | L72: 1086909000 | M72: 1072059000 | N72: 19146689000 | P72: 2938920000
B73: =CONCATENATE($A74,B74) -> 1984Jan | C73: =CONCATENATE($A74,C74) -> 1984Feb | D73: =CONCATENATE($A74,D74) -> 1984Mar | E73: =CONCATENATE($A74,E74) -> 1984Apr | F73: =CONCATENATE($A74,F74) -> 1984May | G73: =CONCATENATE($A74,G74) -> 1984Jun | H73: =CONCATENATE($A74,H74) -> 1984Jul | I73: =CONCATENATE($A74,I74) -> 1984Aug | ... P73: =CONCATENATE($A74,P74) -> 1984Max
A74: 1984 | B74: Jan | C74: Feb | D74: Mar | E74: Apr | F74: May | G74: Jun | H74: Jul | I74: Aug | J74: Sep | K74: Oct | L74: Nov | M74: Dec | N74: (YE)& Min Sto | O74: Avg | P74: Max
A75: Total Capacity (MG) | B75: 64751 | C75: 64751 | D75: 64751 | E75: 64751 | F75: 64751 | G75: 64751 | H75: 70424 | I75: 70424 | J75: 70424 | K75: 70427 | L75: 70427 | M75: 70427 | N75: 70427
A76: Total in Storage (MG) | B76: 49116 | C76: 48261 | D76: 47863 | E76: 47203 | F76: 50859 | G76: 52137 | H76: 50066 | I76: 50918 | J76: 49817 | K76: 51865 | L76: 51410 | M76: 51332 | N76: 47203 | O76: 50071 | P76: 52137
A77: Total Demand (Gal) | B77: 1088346000 | C77: 999107000 | D77: 1118431000 | E77: 1173754000 | F77: 2306302000 | G77: 2634342000 | H77: 3070886000 | I77: 2044471000 | J77: 2242475000 | K77: 1286319000 | L77: 1181812000 | M77: 1123894000 | N77: 20270139000 | P77: 3070886000
B78: =CONCATENATE($A79,B79) -> 1985Jan | C78: =CONCATENATE($A79,C79) -> 1985Feb | D78: =CONCATENATE($A79,D79) -> 1985Mar | E78: =CONCATENATE($A79,E79) -> 1985Apr | F78: =CONCATENATE($A79,F79) -> 1985May | G78: =CONCATENATE($A79,G79) -> 1985Jun | H78: =CONCATENATE($A79,H79) -> 1985Jul | I78: =CONCATENATE($A79,I79) -> 1985Aug | ... P78: =CONCATENATE($A79,P79) -> 1985Max
A79: 1985 | B79: Jan | C79: Feb | D79: Mar | E79: Apr | F79: May | G79: Jun | H79: Jul | I79: Aug | J79: Sep | K79: Oct | L79: Nov | M79: Dec | N79: (YE)& Min Sto | O79: Avg | P79: Max
A80: Total Capacity (MG) | B80: 69124 | C80: 69124 | D80: 69124 | E80: 69124 | F80: 69649 | G80: 69649 | H80: 69649 | I80: 69767 | J80: 69767 | K80: 69767 | L80: 69767 | M80: 69767 | N80: 69767
A81: Total in Storage (MG) | B81: 51365 | C81: 50944 | D81: 50581 | E81: 50074 | F81: 54704 | G81: 57933 | H81: 58807 | I81: 60718 | J81: 59487 | K81: 58923 | L81: 58628 | M81: 58135 | N81: 50074 | O81: 55858 | P81: 60718
A82: Total Demand (Gal) | B82: 1110303000 | C82: 1033616000 | D82: 1223742000 | E82: 1619447000 | F82: 1736422000 | G82: 3171943000 | H82: 2811794000 | I82: 2878977000 | J82: 2043855000 | K82: 1458955000 | L82: 1147286000 | M82: 1130549000 | N82: 21366889000 | P82: 3171943000
B83: =CONCATENATE($A84,B84) -> 1986Jan | C83: =CONCATENATE($A84,C84) -> 1986Feb | D83: =CONCATENATE($A84,D84) -> 1986Mar | E83: =CONCATENATE($A84,E84) -> 1986Apr | F83: =CONCATENATE($A84,F84) -> 1986May | G83: =CONCATENATE($A84,G84) -> 1986Jun | H83: =CONCATENATE($A84,H84) -> 1986Jul | I83: =CONCATENATE($A84,I84) -> 1986Aug | ... P83: =CONCATENATE($A84,P84) -> 1986Max
A84: 1986 | B84: Jan | C84: Feb | D84: Mar | E84: Apr | F84: May | G84: Jun | H84: Jul | I84: Aug | J84: Sep | K84: Oct | L84: Nov | M84: Dec | N84: (YE)& Min Sto | O84: Avg | P84: Max
A85: Total Capacity (MG) | B85: 69767 | C85: 69767 | D85: 69767 | E85: 69767 | F85: 69767 | G85: 69767 | H85: 69649 | I85: 69767 | J85: 69767 | K85: 69767 | L85: 69767 | M85: 69767 | N85: 69767
A86: Total in Storage (MG) | B86: 57809 | C86: 58230 | D86: 58724 | E86: 56012 | F86: 51430 | G86: 60092 | H86: 60349 | I86: 58593 | J86: 57529 | K86: 56848 | L86: 55882 | M86: 55146 | N86: 51430 | O86: 57220 | P86: 60349
A87: Total Demand (Gal) | B87: 1171056000 | C87: 1097534000 | D87: 1503896000 | E87: 2002915000 | F87: 2941729000 | G87: 2675863000 | H87: 3267563000 | I87: 2465165000 | J87: 2248296000 | K87: 1580062000 | L87: 1214025000 | M87: 1196692000 | N87: 23364796000 | P87: 3267563000
B88: =CONCATENATE($A89,B89) -> 1987Jan | C88: =CONCATENATE($A89,C89) -> 1987Feb | D88: =CONCATENATE($A89,D89) -> 1987Mar | E88: =CONCATENATE($A89,E89) -> 1987Apr | F88: =CONCATENATE($A89,F89) -> 1987May | G88: =CONCATENATE($A89,G89) -> 1987Jun | H88: =CONCATENATE($A89,H89) -> 1987Jul | I88: =CONCATENATE($A89,I89) -> 1987Aug | ... P88: =CONCATENATE($A89,P89) -> 1987Max
A89: 1987 | B89: Jan | C89: Feb | D89: Mar | E89: Apr | F89: May | G89: Jun | H89: Jul | I89: Aug | J89: Sep | K89: Oct | L89: Nov | M89: Dec | N89: (YE)& Min Sto | O89: Avg | P89: Max
A90: Total Capacity (MG) | B90: 69767 | C90: 70623 | D90: 70623 | E90: 70623 | F90: 70623 | G90: 70623 | H90: 70623 | I90: 70623 | J90: 70623 | K90: 70623 | L90: 70623 | M90: 70623 | N90: 70623
A91: Total in Storage (MG) | B91: 52630 | C91: 51987 | D91: 50994 | E91: 51664 | F91: 57990 | G91: 59468 | H91: 58001 | I91: 56218 | J91: 54564 | K91: 54595 | L91: 53358 | M91: 52296 | N91: 50994 | O91: 54480 | P91: 59468
A92: Total Demand (Gal) | B92: 1204865000 | C92: 1087920000 | D92: 1195846000 | E92: 1726254000 | F92: 2059535000 | G92: 2898945000 | H92: 3476175000 | I92: 2824100000 | J92: 2250558000 | K92: 1808375000 | L92: 1252533000 | M92: 1190478000 | N92: 22975584000 | P92: 3476175000
B93: =CONCATENATE($A94,B94) -> 1988Jan | C93: =CONCATENATE($A94,C94) -> 1988Feb | D93: =CONCATENATE($A94,D94) -> 1988Mar | E93: =CONCATENATE($A94,E94) -> 1988Apr | F93: =CONCATENATE($A94,F94) -> 1988May | G93: =CONCATENATE($A94,G94) -> 1988Jun | H93: =CONCATENATE($A94,H94) -> 1988Jul | I93: =CONCATENATE($A94,I94) -> 1988Aug | ... P93: =CONCATENATE($A94,P94) -> 1988Max
A94: 1988 | B94: Jan | C94: Feb | D94: Mar | E94: Apr | F94: May | G94: Jun | H94: Jul | I94: Aug | J94: Sep | K94: Oct | L94: Nov | M94: Dec | N94: (YE)& Min Sto | O94: Avg | P94: Max
A95: Total Capacity (MG) | B95: 70623 | C95: 70623 | D95: 70623 | E95: 70623 | F95: 70623 | G95: 70623 | H95: 71233 | I95: 71233 | J95: 71233 | K95: 71233 | L95: 71233 | M95: 79488 | N95: 79488
A96: Total in Storage (MG) | B96: 50843 | C96: 49883 | D96: 49131 | E96: 48414 | F96: 47942 | G96: 55529 | H96: 55553 | I96: 53152 | J96: 51948 | K96: 49651 | L96: 47728 | M96: 48617 | N96: 47728 | O96: 50699 | P96: 55553
A97: Total Demand (Gal) | B97: 1179231000 | C97: 1086098000 | D97: 1159889000 | E97: 1806655000 | F97: 2938732000 | G97: 2969127000 | H97: 3116249000 | I97: 2766665000 | J97: 2521867000 | K97: 1910394000 | L97: 1209807000 | M97: 1099306000 | N97: 23764020000 | P97: 3116249000
B98: =CONCATENATE($A99,B99) -> 1989Jan | C98: =CONCATENATE($A99,C99) -> 1989Feb | D98: =CONCATENATE($A99,D99) -> 1989Mar | E98: =CONCATENATE($A99,E99) -> 1989Apr | F98: =CONCATENATE($A99,F99) -> 1989May | G98: =CONCATENATE($A99,G99) -> 1989Jun | H98: =CONCATENATE($A99,H99) -> 1989Jul | I98: =CONCATENATE($A99,I99) -> 1989Aug | ... P98: =CONCATENATE($A99,P99) -> 1989Max
A99: 1989 | B99: Jan | C99: Feb | D99: Mar | E99: Apr | F99: May | G99: Jun | H99: Jul | I99: Aug | J99: Sep | K99: Oct | L99: Nov | M99: Dec | N99: (YE)& Min Sto | O99: Avg | P99: Max
A100: Total Capacity (MG) | B100: 79488 | C100: 79488 | D100: 79488 | E100: 79488 | F100: 79488 | G100: 79488 | H100: 79517 | I100: 79517 | J100: 79517 | K100: 79517 | L100: 79517 | M100: 79517 | N100: 79517
...
