Workbook

Sheet Sheet1
A1: Colorado Springs Utilities Water Supply
C3: Updated: | D3: 46258 | E3: By: | F3: Katharine Anderson
A5: This spreadsheet is created predominantly from the December 2019 Water Rights Yield Assessment Report for Colorado Springs Utilitites, prepared by SGM.
A8: Water Supply (Study Period: 1945 -2008 for many of the local systems, and 1950-2008 for some local systems)
A10: Water System | B10: Water Right | C10: Water Court Case No. or related Structure WDID | D10: Rate Amt (CFS) | E10: Average Yield for 1950-2008 (AF) | F10: Dry Year / 2002 Vol. Yield (AF) | G10: Minimum Vol (AF) | H10: Adj Date | I10: Appr Date | J10: Comments
A11: North Slope | B11: Stubbs and Miller | C11: French Creek Diversion (WDID 1000574), Cascade Creek Diversion (WDID 1000572), Crystal Creek Diversion (WDID 1000573), North Catamount Creek Diversion (WDID 1000575), and South Catamount Creek Diversion (WDID 1000576). | D11: 2.905 | E11: 6800 | F11: 2981 | G11: =MIN(E11:F23) -> 2981 | H11: 1882-02-15 | I11: 1861-12-31
B12: Fountain Ditch | D12: 4 | H12: 1882-02-15 | I12: 1863-02-01
B13: Harmes Ditch (Ute pass) | D13: 0.176 | H13: 1882-02-15 | I13: 1861-03-20
B14: Eder Ditch | D14: 3.28 | H14: 1882-02-15 | I14: 1862-01-01
B15: Whipple Ditch | D15: 0.72 | H15: 1882-02-15 | I15: 1862-03-15
B16: Harmes Enlargement | D16: 1.25 | H16: 1882-02-15 | I16: 1872-12-31
B17: Lincoln Ditch | D17: 0.9 | H17: 1882-02-15 | I17: 1861-09-21
B18: Banning Ditch | D18: 1.125 | H18: 1882-02-15 | I18: 1862-04-01
B19: Lincoln Ditch Enlargement | D19: 0.75 | H19: 1882-02-15 | I19: 1864-12-31
B20: Lincoln Ditch | D20: 2.7 | H20: 1882-02-15 | I20: 1861-09-21
B21: Lincoln Ditch Enlargement | D21: 2.25 | H21: 1882-02-15 | I21: 1864-12-31
B22: Lincoln Ditch | D22: 2.4 | H22: 1882-02-15 | I22: 1861-09-21
B23: Lincoln Ditch Enlargement | D23: 2 | H23: 1882-02-15 | I23: 1864-12-31
A24: Ruxton | B24: Toof Ditch | C24: Ruxton Creek System Exchange WDID 1002805 | D24: 4 | E24: 6610 | F24: 4495 | G24: =MIN(E24:F33) -> 4495 | H24: 1896-03-23 | I24: 1860-02-20 | J24: The yield represents the sum of yield from the direct diversion rights and water diverted under the storage rights
B25: Flanagan Ditch | D25: 0.74 | H25: 1882-02-15 | I25: 1860-04-01
B26: Harmes Ditch | D26: 0.07 | H26: 1882-02-15 | I26: 1861-03-20
B27: Owen and Hall | D27: 2 | H27: 1882-02-15 | I27: 1862-12-31
B28: Harmes Ditch Enlargement | D28: 0.27 | H28: 1882-02-15 | I28: 1872-12-31
B29: Colorado Springs Water Works Ditch | D29: 3.1 | H29: 19763 | I29: 1878-10-01
B30: TF Irrigation Use | D30: 41 | H30: 7093 | I30: 1883-08-23
B31: Ruxton PL WDID 1000581 | D31: 34 | H31: 19763 | I31: 1113
B32: Colo Spgs PL | D32: 3.1 | H32: 1882-02-15 | I32: 1878-10-01
B33: Dark Canyon Ditch | D33: 1.9 | H33: 19763 | I33: 1893-09-28
A34: 33rd Street | B34: Harmes Ditch (El Paso Canal) - alt. point of div. | C34: 33rd Street Intake WDID 1000883; Exchange WDID 1002800 | D34: 1.58 | E34: 4877 | F34: 2181 | G34: =MIN(E34:F39) -> 2181 | H34: 1882-02-15 | I34: 1861-03-20 | J34: The diversions at alt. points shall not exceed a total of 13.93 cfs, and cannot be made at the alt. point and original point simultaneously.
B35: Bley Ditch (El Paso Canal) - alt. point of div. | D35: 22.4 | H35: 1882-02-15 | I35: 1861-03-21
B36: Sheldon Ditch (El Paso Canal) - alt. point of div. | D36: 8.37 | H36: 1882-02-15 | I36: 1863-12-31
B37: Anthony Bott and Chambers | D37: 8.82 | H37: 1882-02-15 | I37: 1864-03-21
B38: El Paso Canal Pipeline | D38: 59.5 | H38: 1882-02-15 | I38: 1871-09-21
B39: AnthonyBott and Chambers (Enlargement) (El Paso Canal) - alt. point of div. | D39: 3.54 | H39: 1882-02-15 | I39: 1881-04-30
A40: Bear Creek | B40: Ditch Number 1 | C40: 15CW3008; Bear Creek Exchange WDID 1002801 | D40: 5.34 | E40: 1564 | F40: 801 | G40: =MIN(E40:F46) -> 801 | H40: 1882-02-15 | I40: 1861-12-31
B41: Ditch Number 1 | D41: 2.66 | H41: 1882-02-15 | I41: 1861-12-31
B42: Matthews Ditch | D42: 5 | H42: 1882-02-15 | I42: 1863-03-21
B43: Wellesley and Howbert Ditch | D43: 6 | H43: 1882-02-15 | I43: 1866-09-21
B44: Wellesley and Fisher Ditch | D44: 8 | H44: 1882-02-15 | I44: 1875-03-21
B45: Bear Creek Pipeline WDID 1000535 | D45: 9.4 | H45: 19763 | I45: 1889-04-15
...

Sheet Sheet2
A3: CSU System Parameter | B3: Amount (AF)
A4: Dry-Year Water Right Yield | B4: =Sheet1!F181 -> 51981.13
A5: Minimum System Storage Level (1990-2025) | B5: =Sheet1!C1082 -> 102423.99
A6: Annual Demand | B6: =Sheet1!B1145 -> 88000
A7: Available Supply | B7: =B4+B5-B6 -> 66405.123
A8: Proposed Lot Demand | B8: 0.7
A9: Remaining Supply | B9: =B7-B8 -> 66404.423

Sheet Storage
A1: Summary by Month
D2: Indicates a different capacity value than the previous month
B3: =CONCATENATE($A4,B4) -> 1970Jan | C3: =CONCATENATE($A4,C4) -> 1970Feb | D3: =CONCATENATE($A4,D4) -> 1970Mar | E3: =CONCATENATE($A4,E4) -> 1970Apr | F3: =CONCATENATE($A4,F4) -> 1970May | G3: =CONCATENATE($A4,G4) -> 1970Jun | H3: =CONCATENATE($A4,H4) -> 1970Jul | I3: =CONCATENATE($A4,I4) -> 1970Aug | ... P3: =CONCATENATE($A4,P4) -> 1970Max
A4: 1970 | B4: Jan | C4: Feb | D4: Mar | E4: Apr | F4: May | G4: Jun | H4: Jul | I4: Aug | J4: Sep | K4: Oct | L4: Nov | M4: Dec | N4: (YE)& Min Sto | O4: Avg | P4: Max
A5: Total Capacity (Gal) | B5: 30461904000 | C5: 30461904000 | D5: 30461904000 | E5: 31143296000 | F5: 31143296000 | G5: 31143296000 | H5: 31143296000 | I5: 31143296000 | J5: 31143296000 | K5: 31143296000 | L5: 31143296000 | M5: 31143296000 | N5: 31143296000
A6: Total in Storage (Gal) | B6: 14923579000 | C6: 14595412000 | D6: 13939679000 | E6: 13409679000 | F6: 15301679000 | G6: 20167117000 | H6: 20139645000 | I6: 19841194000 | J6: 19417788000 | K6: 18790679000 | L6: 18288779000 | M6: 17762279000 | N6: 13409679000 | O6: 17214792417 | P6: 20167117000
A7: Total Demand (Gal) | B7: 701118000 | C7: 720833000 | D7: 831913000 | E7: 933678000 | F7: 1668300000 | G7: 1744555000 | H7: 1698591000 | I7: 1690290000 | J7: 1369980000 | K7: 873120000 | L7: 724033000 | M7: 741609000 | N7: 13698020000 | P7: 1744555000
B8: =CONCATENATE($A9,B9) -> 1971Jan | C8: =CONCATENATE($A9,C9) -> 1971Feb | D8: =CONCATENATE($A9,D9) -> 1971Mar | E8: =CONCATENATE($A9,E9) -> 1971Apr | F8: =CONCATENATE($A9,F9) -> 1971May | G8: =CONCATENATE($A9,G9) -> 1971Jun | H8: =CONCATENATE($A9,H9) -> 1971Jul | I8: =CONCATENATE($A9,I9) -> 1971Aug | ... P8: =CONCATENATE($A9,P9) -> 1971Max
A9: 1971 | B9: Jan | C9: Feb | D9: Mar | E9: Apr | F9: May | G9: Jun | H9: Jul | I9: Aug | J9: Sep | K9: Oct | L9: Nov | M9: Dec | N9: (YE)& Min Sto | O9: Avg | P9: Max
A10: Total Capacity (Gal) | B10: 31143296000 | C10: 31143300000 | D10: 31143300000 | E10: 31144699000 | F10: 31144699000 | G10: 31144699000 | H10: 31144699000 | I10: 31144699000 | J10: 31144699000 | K10: 31144699000 | L10: 31144699000 | M10: 31144699000 | N10: 31144699000
A11: Total in Storage (Gal) | B11: 17118482000 | C11: 16435279000 | D11: 15534464000 | E11: 15126528000 | F11: 16386852000 | G11: 18984933000 | H11: 20558922000 | I11: 19920755000 | J11: 19462603000 | K11: 19401789000 | L11: 19477351000 | M11: 19147712000 | N11: 15126528000 | O11: 18129639167 | P11: 20558922000
A12: Total Demand (Gal) | B12: 775457000 | C12: 696989000 | D12: 844992000 | E12: 1033203000 | F12: 1246204000 | G12: 2122447000 | H12: 1460866000 | I12: 1749480000 | J12: 1316472000 | K12: 1063282000 | L12: 796210000 | M12: 793122000 | N12: 13898724000 | P12: 2122447000
B13: =CONCATENATE($A14,B14) -> 1972Jan | C13: =CONCATENATE($A14,C14) -> 1972Feb | D13: =CONCATENATE($A14,D14) -> 1972Mar | E13: =CONCATENATE($A14,E14) -> 1972Apr | F13: =CONCATENATE($A14,F14) -> 1972May | G13: =CONCATENATE($A14,G14) -> 1972Jun | H13: =CONCATENATE($A14,H14) -> 1972Jul | I13: =CONCATENATE($A14,I14) -> 1972Aug | ... P13: =CONCATENATE($A14,P14) -> 1972Max
A14: 1972 | B14: Jan | C14: Feb | D14: Mar | E14: Apr | F14: May | G14: Jun | H14: Jul | I14: Aug | J14: Sep | K14: Oct | L14: Nov | M14: Dec | N14: (YE)& Min Sto | O14: Avg | P14: Max
A15: Total Capacity (Gal) | B15: 31144699000 | C15: 31144699000 | D15: 31144699000 | E15: 31144699000 | F15: 31144699000 | G15: 31144699000 | H15: 31144699000 | I15: 31144699000 | J15: 31144699000 | K15: 31144699000 | L15: 31144699000 | M15: 39942082000 | N15: 39942082000
A16: Total in Storage (Gal) | B16: 18658138000 | C16: 18644357000 | D16: 18015090000 | E16: 17334045000 | F16: 17292980000 | G16: 19906683000 | H16: 20537116000 | I16: 21389403000 | J16: 21973140000 | K16: 22249860000 | L16: 21672898000 | M16: 21026676000 | N16: 17292980000 | O16: 19891698833 | P16: 22249860000
A17: Total Demand (Gal) | B17: 774575000 | C17: 798827000 | D17: 1181325000 | E17: 1249508000 | F17: 1372093000 | G17: 1492677000 | H17: 1754099000 | I17: 1683969000 | J17: 1231119000 | K17: 1129854000 | L17: 798303000 | M17: 798036000 | N17: 14264385000 | P17: 1754099000
B18: =CONCATENATE($A19,B19) -> 1973Jan | C18: =CONCATENATE($A19,C19) -> 1973Feb | D18: =CONCATENATE($A19,D19) -> 1973Mar | E18: =CONCATENATE($A19,E19) -> 1973Apr | F18: =CONCATENATE($A19,F19) -> 1973May | G18: =CONCATENATE($A19,G19) -> 1973Jun | H18: =CONCATENATE($A19,H19) -> 1973Jul | I18: =CONCATENATE($A19,I19) -> 1973Aug | ... P18: =CONCATENATE($A19,P19) -> 1973Max
A19: 1973 | B19: Jan | C19: Feb | D19: Mar | E19: Apr | F19: May | G19: Jun | H19: Jul | I19: Aug | J19: Sep | K19: Oct | L19: Nov | M19: Dec | N19: (YE)& Min Sto | O19: Avg | P19: Max
A20: Total Capacity (Gal) | B20: 39942082000 | C20: 39942082000 | D20: 39942082000 | E20: 39942082000 | F20: 40768890000 | G20: 40768890000 | H20: 40768890000 | I20: 40768890000 | J20: 40768890000 | K20: 40768890000 | L20: 40768890000 | M20: 40768890000 | N20: 40768890000
A21: Total in Storage (Gal) | B21: 20491428000 | C21: 19646010000 | D21: 19060054000 | E21: 18922309000 | F21: 21592041000 | G21: 24664317000 | H21: 26203941000 | I21: 25843438000 | J21: 24946246000 | K21: 23809555000 | L21: 22989663000 | M21: 22145493000 | N21: 18922309000 | O21: 22526207917 | P21: 26203941000
A22: Total Demand (Gal) | B22: 798829000 | C22: 722482000 | D22: 818968000 | E22: 988841000 | F22: 1416020000 | G22: 2248790000 | H22: 1909689000 | I22: 1971724000 | J22: 1393415000 | K22: 1210136000 | L22: 928870000 | M22: 856527000 | N22: 15264291000 | P22: 2248790000
B23: =CONCATENATE($A24,B24) -> 1974Jan | C23: =CONCATENATE($A24,C24) -> 1974Feb | D23: =CONCATENATE($A24,D24) -> 1974Mar | E23: =CONCATENATE($A24,E24) -> 1974Apr | F23: =CONCATENATE($A24,F24) -> 1974May | G23: =CONCATENATE($A24,G24) -> 1974Jun | H23: =CONCATENATE($A24,H24) -> 1974Jul | I23: =CONCATENATE($A24,I24) -> 1974Aug | ... P23: =CONCATENATE($A24,P24) -> 1974Max
A24: 1974 | B24: Jan | C24: Feb | D24: Mar | E24: Apr | F24: May | G24: Jun | H24: Jul | I24: Aug | J24: Sep | K24: Oct | L24: Nov | M24: Dec | N24: (YE)& Min Sto | O24: Avg | P24: Max
A25: Total Capacity (Gal) | B25: 40768890000 | C25: 40768890000 | D25: 40768890000 | E25: 40768890000 | F25: 40768890000 | G25: 40768890000 | H25: 40768890000 | I25: 40768890000 | J25: 40768890000 | K25: 40768890000 | L25: 40768890000 | M25: 40768890000 | N25: 40768890000
A26: Total in Storage (Gal) | B26: 21573444000 | C26: 21012383000 | D26: 20273153000 | E26: 19370600000 | F26: 20314933000 | G26: 24100586000 | H26: 23502015000 | I26: 22026417000 | J26: 20495373000 | K26: 19656860000 | L26: 19101246000 | M26: 18391666000 | N26: 18391666000 | O26: 20818223000 | P26: 24100586000
A27: Total Demand (Gal) | B27: 836053000 | C27: 743575000 | D27: 908079000 | E27: 1169946000 | F27: 1884001000 | G27: 2107141000 | H27: 2234454000 | I27: 2158942000 | J27: 1573473000 | K27: 1163615000 | L27: 821932000 | M27: 779123000 | N27: 16380334000 | P27: 2234454000
B28: =CONCATENATE($A29,B29) -> 1975Jan | C28: =CONCATENATE($A29,C29) -> 1975Feb | D28: =CONCATENATE($A29,D29) -> 1975Mar | E28: =CONCATENATE($A29,E29) -> 1975Apr | F28: =CONCATENATE($A29,F29) -> 1975May | G28: =CONCATENATE($A29,G29) -> 1975Jun | H28: =CONCATENATE($A29,H29) -> 1975Jul | I28: =CONCATENATE($A29,I29) -> 1975Aug | ... P28: =CONCATENATE($A29,P29) -> 1975Max
A29: 1975 | B29: Jan | C29: Feb | D29: Mar | E29: Apr | F29: May | G29: Jun | H29: Jul | I29: Aug | J29: Sep | K29: Oct | L29: Nov | M29: Dec | N29: (YE)& Min Sto | O29: Avg | P29: Max
A30: Total Capacity (Gal) | B30: 40768890000 | C30: 40768890000 | D30: 40768890000 | E30: 40768890000 | F30: 38814242000 | G30: 38814242000 | H30: 38814242000 | I30: 38814242000 | J30: 38814242000 | K30: 38814242000 | L30: 38814242000 | M30: 38814242000 | N30: 38814242000
A31: Total in Storage (Gal) | B31: 17552640000 | C31: 16989133000 | D31: 16407017000 | E31: 15527079000 | F31: 15743975000 | G31: 21129041000 | H31: 23141522000 | I31: 22348457000 | J31: 20563027000 | K31: 18991118000 | L31: 18322799000 | M31: 17755824000 | N31: 15527079000 | O31: 18705969333 | P31: 23141522000
A32: Total Demand (Gal) | B32: 824767000 | C32: 725263000 | D32: 891576000 | E32: 1185048000 | F32: 1834545000 | G32: 2020953000 | H32: 2378619000 | I32: 2234548000 | J32: 1781405000 | K32: 1400378000 | L32: 844110000 | M32: 825683000 | N32: 16946895000 | P32: 2378619000
B33: =CONCATENATE($A34,B34) -> 1976Jan | C33: =CONCATENATE($A34,C34) -> 1976Feb | D33: =CONCATENATE($A34,D34) -> 1976Mar | E33: =CONCATENATE($A34,E34) -> 1976Apr | F33: =CONCATENATE($A34,F34) -> 1976May | G33: =CONCATENATE($A34,G34) -> 1976Jun | H33: =CONCATENATE($A34,H34) -> 1976Jul | I33: =CONCATENATE($A34,I34) -> 1976Aug | ... P33: =CONCATENATE($A34,P34) -> 1976Max
A34: 1976 | B34: Jan | C34: Feb | D34: Mar | E34: Apr | F34: May | G34: Jun | H34: Jul | I34: Aug | J34: Sep | K34: Oct | L34: Nov | M34: Dec | N34: (YE)& Min Sto | O34: Avg | P34: Max
A35: Total Capacity (Gal) | B35: 39010098000 | C35: 39010098000 | D35: 39010098000 | E35: 39010098000 | F35: 39010098000 | G35: 39010098000 | H35: 39010098000 | I35: 39010098000 | J35: 39010098000 | K35: 39010098000 | L35: 39010098000 | M35: 39010098000 | N35: 39010098000
A36: Total in Storage (Gal) | B36: 17223850000 | C36: 16642472000 | D36: 15844227000 | E36: 15384910000 | F36: 18060882000 | G36: 19766778000 | H36: 19556991000 | I36: 18832919000 | J36: 17770802000 | K36: 17175395000 | L36: 16482205000 | M36: 15914095000 | N36: 15384910000 | O36: 17387960500 | P36: 19766778000
A37: Total Demand (Gal) | B37: 830145000 | C37: 881171000 | D37: 918595000 | E37: 1379444000 | F37: 1675716000 | G37: 2096475000 | H37: 2360135000 | I37: 2026401000 | J37: 1582348000 | K37: 1053405000 | L37: 914907000 | M37: 851106000 | N37: 16569848000 | P37: 2360135000
B38: =CONCATENATE($A39,B39) -> 1977Jan | C38: =CONCATENATE($A39,C39) -> 1977Feb | D38: =CONCATENATE($A39,D39) -> 1977Mar | E38: =CONCATENATE($A39,E39) -> 1977Apr | F38: =CONCATENATE($A39,F39) -> 1977May | G38: =CONCATENATE($A39,G39) -> 1977Jun | H38: =CONCATENATE($A39,H39) -> 1977Jul | I38: =CONCATENATE($A39,I39) -> 1977Aug | ... P38: =CONCATENATE($A39,P39) -> 1977Max
A39: 1977 | B39: Jan | C39: Feb | D39: Mar | E39: Apr | F39: May | G39: Jun | H39: Jul | I39: Aug | J39: Sep | K39: Oct | L39: Nov | M39: Dec | N39: (YE)& Min Sto | O39: Avg | P39: Max
A40: Total Capacity (Gal) | B40: 44034138000 | C40: 44034138000 | D40: 44034138000 | E40: 44034138000 | F40: 44034138000 | G40: 44034138000 | H40: 44034138000 | I40: 44034138000 | J40: 44034138000 | K40: 44034138000 | L40: 44034138000 | M40: 44034138000 | N40: 44034138000
...
